Workbook

Sheet planilla salarial CONSULTORES
B2: CENTRO INTERNACIONAL DE LA QUINUA ESTRUCTURA DE PERSONAL Y PLANILLA POA 2022 (Expresada en Bolivianos)
B5: REPARTICION / CARGO | C5: T | D5: GESTION | E5: UNIDAD | F5: SUELDO MENSUAL | G5: MES | S5: DIAS | T5: MESES | U5: MONTO ANUAL | V5: APORTES PATRONALES | Z5: TOTAL | AA5: AGUINALDO
G6: ENE | H6: FEB | I6: MAR | J6: ABR | K6: MAY | L6: JUN | M6: JUL | N6: AGO | O6: SEP | P6: OCT | Q6: NOV | R6: DIC | V6: SALUD | W6: PENSIONES | X6: PATRONAL | Y6: VIVIENDA
B8: DIRECCION GENERAL EJECUTIVA
A10: 1 | B10: Director General Ejecutivo | C10: P | D10: 2022 | E10: Haber | F10: 19535 | G10: 30 | H10: 30 | I10: 30 | J10: 30 | K10: 30 | L10: 30 | M10: 30 | N10: 30 | O10: 30 | P10: 30 | Q10: 30 | R10: 30 | S10: =SUM(G10:R10) -> 360 | T10: =+S10/30 -> 12 | U10: =ROUND(PRODUCT(F10*T10),0) -> 234420 | V10: =U10*0.1 -> 23442 | W10: =U10*0.0171 -> 4008.582 | X10: =U10*0.03 -> 7032.6 | Y10: =U10*0.02 -> 4688.4 | Z10: =SUM(U10:Y10) -> 273591.58 | AA10: =+F10*S10/360 -> 19535 | AB10: =+AA10+Z10 -> 293126.58
B11: ASESORAMIENTO Y APOYO | AB11: =+AA11+Z11 -> 0
A12: =A10+1 -> 2 | B12: Profesional VII - Asesoria Juridica y Relaciones Internacionales | C12: E | D12: 2022 | E12: Haber | F12: 10693 | G12: 26 | H12: 30 | I12: 30 | J12: 30 | K12: 30 | L12: 30 | M12: 30 | N12: 30 | O12: 30 | P12: 30 | Q12: 30 | R12: 30 | S12: =SUM(G12:R12) -> 356 | T12: =+S12/30 -> 11.866667 | U12: =ROUND(PRODUCT(F12*T12),0) -> 126890 | V12: =U12*0.1 -> 12689 | W12: =U12*0.0171 -> 2169.819 | X12: =U12*0.03 -> 3806.7 | Y12: =U12*0.02 -> 2537.8 | Z12: =SUM(U12:Y12) -> 148093.32 | AA12: =+F12*S12/360 -> 10574.189 | AB12: =+AA12+Z12 -> 158667.51
A13: =A12+1 -> 3 | B13: Administrativo IV - Secretaria Dirección General | C13: E | D13: 2022 | E13: Haber | F13: 4529 | G13: 0 | H13: 30 | I13: 30 | J13: 30 | K13: 30 | L13: 30 | M13: 30 | N13: 30 | O13: 30 | P13: 30 | Q13: 30 | R13: 30 | S13: =SUM(G13:R13) -> 330 | T13: =+S13/30 -> 11 | U13: =ROUND(PRODUCT(F13*T13),0) -> 49819 | V13: =U13*0.1 -> 4981.9 | W13: =U13*0.0171 -> 851.9049 | X13: =U13*0.03 -> 1494.57 | Y13: =U13*0.02 -> 996.38 | Z13: =SUM(U13:Y13) -> 58143.755 | AA13: =+F13*S13/360 -> 4151.5833 | AB13: =+AA13+Z13 -> 62295.338
A14: =A13+1 -> 4 | B14: Administrativo II - Técnico Comunicador | C14: E | D14: 2022 | E14: Haber | F14: 5494 | G14: 0 | H14: 0 | I14: 0 | J14: 0 | K14: 30 | L14: 30 | M14: 30 | N14: 30 | O14: 30 | P14: 30 | Q14: 30 | R14: 30 | S14: =SUM(G14:R14) -> 240 | T14: =+S14/30 -> 8 | U14: =ROUND(PRODUCT(F14*T14),0) -> 43952 | V14: =U14*0.1 -> 4395.2 | W14: =U14*0.0171 -> 751.5792 | X14: =U14*0.03 -> 1318.56 | Y14: =U14*0.02 -> 879.04 | Z14: =SUM(U14:Y14) -> 51296.379 | AA14: =+F14*S14/360 -> 3662.6667 | AB14: =+AA14+Z14 -> 54959.046
B15: CONTROL | AB15: =+AA15+Z15 -> 0
A16: =A14+1 -> 5 | B16: Tecnico V - Auditoria Interna | C16: E | D16: 2022 | E16: Haber | F16: 7722 | G16: 26 | H16: 30 | I16: 30 | J16: 0 | K16: 0 | L16: 0 | M16: 0 | N16: 0 | O16: 0 | P16: 0 | Q16: 30 | R16: 30 | S16: =SUM(G16:R16) -> 146 | T16: =+S16/30 -> 4.8666667 | U16: =ROUND(PRODUCT(F16*T16),0) -> 37580 | V16: =U16*0.1 -> 3758 | W16: =U16*0.0171 -> 642.618 | X16: =U16*0.03 -> 1127.4 | Y16: =U16*0.02 -> 751.6 | Z16: =SUM(U16:Y16) -> 43859.618 | AB16: =+AA16+Z16 -> 43859.618
B17: AREA DE PLANIFICACIÓN, MONITOREO Y EVALUACIÓN | U17: =U20+U22 -> 69060 | V17: =U17*0.1 -> 6906 | W17: =U17*0.0171 -> 1180.926 | X17: =U17*0.03 -> 2071.8 | Y17: =U17*0.02 -> 1381.2 | Z17: =SUM(U17:Y17) -> 80599.926 | AB17: =+AA17+Z17 -> 80599.926
A18: =A16+1 -> 6 | B18: Profesional VII - Responsable de Planificacion, Monitoreo y Evaluación | C18: E | D18: 2022 | E18: Haber | F18: 10693 | G18: 26 | H18: 30 | I18: 30 | J18: 30 | K18: 30 | L18: 30 | M18: 30 | N18: 30 | O18: 30 | P18: 30 | Q18: 30 | R18: 30 | S18: =SUM(G18:R18) -> 356 | T18: =+S18/30 -> 11.866667 | U18: =ROUND(PRODUCT(F18*T18),0) -> 126890 | V18: =U18*0.1 -> 12689 | W18: =U18*0.0171 -> 2169.819 | X18: =U18*0.03 -> 3806.7 | Y18: =U18*0.02 -> 2537.8 | Z18: =SUM(U18:Y18) -> 148093.32 | AA18: =+F18*S18/360 -> 10574.189 | AB18: =+AA18+Z18 -> 158667.51
A19: =A18+1 -> 7 | B19: Tecnico VI - de Gestión de Proyectos y Financiamiento | C19: E | D19: 2022 | E19: Haber | F19: 6906 | G19: 0 | H19: 0 | I19: 0 | J19: 0 | K19: 0 | L19: 0 | M19: 0 | N19: 30 | O19: 30 | P19: 30 | Q19: 30 | R19: 30 | S19: =SUM(G19:R19) -> 150 | T19: =+S19/30 -> 5 | U19: =ROUND(PRODUCT(F19*T19),0) -> 34530 | V19: =U19*0.1 -> 3453 | W19: =U19*0.0171 -> 590.463 | X19: =U19*0.03 -> 1035.9 | Y19: =U19*0.02 -> 690.6 | Z19: =SUM(U19:Y19) -> 40299.963 | AA19: =+F19*S19/360 -> 2877.5
A20: =A19+1 -> 8 | B20: Tecnico VI - Civil | C20: C | D20: 2022 | E20: Haber | F20: 6906 | G20: 30 | H20: 30 | I20: 30 | J20: 30 | K20: 30 | L20: 0 | M20: 0 | N20: 0 | O20: 0 | P20: 0 | Q20: 0 | R20: 0 | S20: =SUM(G20:R20) -> 150 | T20: =+S20/30 -> 5 | U20: =ROUND(PRODUCT(F20*T20),0) -> 34530 | V20: =U20*0.1 -> 3453 | W20: =U20*0.0171 -> 590.463 | X20: =U20*0.03 -> 1035.9 | Y20: =U20*0.02 -> 690.6 | Z20: =SUM(U20:Y20) -> 40299.963 | AA20: =+F20*S20/360 -> 2877.5
A21: =A20+1 -> 9 | B21: Tecnico VI - en Medio Ambiente y Cambio Climatico | C21: E | D21: 2022 | E21: Haber | F21: 6906 | G21: 0 | H21: 0 | I21: 0 | J21: 0 | K21: 0 | L21: 0 | M21: 0 | N21: 30 | O21: 30 | P21: 30 | Q21: 30 | R21: 30 | S21: =SUM(G21:R21) -> 150 | T21: =+S21/30 -> 5 | U21: =ROUND(PRODUCT(F21*T21),0) -> 34530 | V21: =U21*0.1 -> 3453 | W21: =U21*0.0171 -> 590.463 | X21: =U21*0.03 -> 1035.9 | Y21: =U21*0.02 -> 690.6 | Z21: =SUM(U21:Y21) -> 40299.963 | AA21: =+F21*S21/360 -> 2877.5
A22: =A21+1 -> 10 | B22: Tecnico VI- Proyectista | C22: C | D22: 2022 | E22: Haber | F22: 6906 | G22: 0 | H22: 0 | I22: 0 | J22: 0 | K22: 0 | L22: 0 | M22: 0 | N22: 30 | O22: 30 | P22: 30 | Q22: 30 | R22: 30 | S22: =SUM(G22:R22) -> 150 | T22: =+S22/30 -> 5 | U22: =ROUND(PRODUCT(F22*T22),0) -> 34530 | V22: =U22*0.1 -> 3453 | W22: =U22*0.0171 -> 590.463 | X22: =U22*0.03 -> 1035.9 | Y22: =U22*0.02 -> 690.6 | Z22: =SUM(U22:Y22) -> 40299.963 | AA22: =+F22*S22/360 -> 2877.5
B23: AREA ADMINISTRATIVA FINANCIERA | AB23: =+AA23+Z23 -> 0
A24: =A22+1 -> 11 | B24: Profesional Vll - Responsable Administrativo Financiero | C24: E | D24: 2022 | E24: Haber | F24: 10693 | G24: 26 | H24: 30 | I24: 30 | J24: 30 | K24: 30 | L24: 30 | M24: 30 | N24: 30 | O24: 30 | P24: 30 | Q24: 30 | R24: 30 | S24: =SUM(G24:R24) -> 356 | T24: =+S24/30 -> 11.866667 | U24: =ROUND(PRODUCT(F24*T24),0) -> 126890 | V24: =U24*0.1 -> 12689 | W24: =U24*0.0171 -> 2169.819 | X24: =U24*0.03 -> 3806.7 | Y24: =U24*0.02 -> 2537.8 | Z24: =SUM(U24:Y24) -> 148093.32 | AA24: =+F24*S24/360 -> 10574.189 | AB24: =+AA24+Z24 -> 158667.51
A25: =A24+1 -> 12 | B25: Profesional IX - Contabilidad, Presupuestos y Contrataciones | C25: E | D25: 2022 | E25: Haber | F25: 9282 | G25: 26 | H25: 30 | I25: 30 | J25: 30 | K25: 30 | L25: 30 | M25: 30 | N25: 30 | O25: 30 | P25: 30 | Q25: 30 | R25: 30 | S25: =SUM(G25:R25) -> 356 | T25: =+S25/30 -> 11.866667 | U25: =ROUND(PRODUCT(F25*T25),0) -> 110146 | V25: =U25*0.1 -> 11014.6 | W25: =U25*0.0171 -> 1883.4966 | X25: =U25*0.03 -> 3304.38 | Y25: =U25*0.02 -> 2202.92 | Z25: =SUM(U25:Y25) -> 128551.4 | AA25: =+F25*S25/360 -> 9178.8667 | AB25: =+AA25+Z25 -> 137730.26
A26: =A25+1 -> 13 | B26: Administrativo IV Auxiliar Administrativo | C26: E | D26: 2022 | E26: Haber | F26: 4529 | G26: 0 | H26: 20 | I26: 30 | J26: 30 | K26: 30 | L26: 30 | M26: 30 | N26: 30 | O26: 30 | P26: 30 | Q26: 30 | R26: 30 | S26: =SUM(G26:R26) -> 320 | T26: =+S26/30 -> 10.666667 | U26: =ROUND(PRODUCT(F26*T26),0) -> 48309 | V26: =U26*0.1 -> 4830.9 | W26: =U26*0.0171 -> 826.0839 | X26: =U26*0.03 -> 1449.27 | Y26: =U26*0.02 -> 966.18 | Z26: =SUM(U26:Y26) -> 56381.434 | AA26: =+F26*S26/360 -> 4025.7778 | AB26: =+AA26+Z26 -> 60407.212
A27: =A26+1 -> 14 | B27: Auxiliar I - Mensajero enlace La Paz | C27: E | D27: 2022 | E27: Haber | F27: 4009 | G27: 23 | H27: 30 | I27: 30 | J27: 30 | K27: 30 | L27: 30 | M27: 30 | N27: 30 | O27: 30 | P27: 30 | Q27: 30 | R27: 30 | S27: =SUM(G27:R27) -> 353 | T27: =+S27/30 -> 11.766667 | U27: =ROUND(PRODUCT(F27*T27),0) -> 47173 | V27: =U27*0.1 -> 4717.3 | W27: =U27*0.0171 -> 806.6583 | X27: =U27*0.03 -> 1415.19 | Y27: =U27*0.02 -> 943.46 | Z27: =SUM(U27:Y27) -> 55055.608 | AA27: =+F27*S27/360 -> 3931.0472 | AB27: =+AA27+Z27 -> 58986.656
A28: =A27+1 -> 15 | B28: Auxiliar I - Chofer I | C28: E | D28: 2022 | E28: Haber | F28: 4009 | G28: 26 | H28: 30 | I28: 30 | J28: 30 | K28: 30 | L28: 30 | M28: 30 | N28: 30 | O28: 30 | P28: 30 | Q28: 30 | R28: 30 | S28: =SUM(G28:R28) -> 356 | T28: =+S28/30 -> 11.866667 | U28: =ROUND(PRODUCT(F28*T28),0) -> 47573 | V28: =U28*0.1 -> 4757.3 | W28: =U28*0.0171 -> 813.4983 | X28: =U28*0.03 -> 1427.19 | Y28: =U28*0.02 -> 951.46 | Z28: =SUM(U28:Y28) -> 55522.448 | AA28: =+F28*S28/360 -> 3964.4556 | AB28: =+AA28+Z28 -> 59486.904
A29: =A28+1 -> 16 | B29: Auxiliar II - Chofer II | C29: E | D29: 2022 | E29: Haber | F29: 3340 | G29: 0 | H29: 30 | I29: 30 | J29: 30 | K29: 30 | L29: 30 | M29: 0 | N29: 0 | O29: 0 | P29: 0 | Q29: 0 | R29: 0 | S29: =SUM(G29:R29) -> 150 | T29: =+S29/30 -> 5 | U29: =ROUND(PRODUCT(F29*T29),0) -> 16700 | V29: =U29*0.1 -> 1670 | W29: =U29*0.0171 -> 285.57 | X29: =U29*0.03 -> 501 | Y29: =U29*0.02 -> 334 | Z29: =SUM(U29:Y29) -> 19490.57 | AA29: =+F29*S29/360 -> 1391.6667 | AB29: =+AA29+Z29 -> 20882.237
B30: AREA DE INVESTIGACION Y DESARROLLO | U30: =U32+U33 -> 69060 | V30: =U30*0.1 -> 6906 | W30: =U30*0.0171 -> 1180.926 | X30: =U30*0.03 -> 2071.8 | Y30: =U30*0.02 -> 1381.2 | Z30: =SUM(U30:Y30) -> 80599.926 | AB30: =+AA30+Z30 -> 80599.926
A31: =A29+1 -> 17 | B31: Profesional VII - Responsable en Investigación y Desarrollo | C31: E | D31: 2022 | E31: Haber | F31: 10693 | G31: 20 | H31: 30 | I31: 30 | J31: 30 | K31: 30 | L31: 30 | M31: 30 | N31: 30 | O31: 30 | P31: 30 | Q31: 30 | R31: 30 | S31: =SUM(G31:R31) -> 350 | T31: =+S31/30 -> 11.666667 | U31: =ROUND(PRODUCT(F31*T31),0) -> 124752 | V31: =U31*0.1 -> 12475.2 | W31: =U31*0.0171 -> 2133.2592 | X31: =U31*0.03 -> 3742.56 | Y31: =U31*0.02 -> 2495.04 | Z31: =SUM(U31:Y31) -> 145598.06 | AA31: =+F31*S31/360 -> 10395.972 | AB31: =+AA31+Z31 -> 155994.03
A32: =A31+1 -> 18 | B32: Tecnico VI - Investigador Agricola (Altiplano Sur) | C32: C | D32: 2022 | E32: Haber | F32: 6906 | G32: 0 | H32: 30 | I32: 30 | J32: 30 | K32: 30 | L32: 30 | M32: 0 | N32: 0 | O32: 0 | P32: 0 | Q32: 0 | R32: 0 | S32: =SUM(G32:R32) -> 150 | T32: =+S32/30 -> 5 | U32: =ROUND(PRODUCT(F32*T32),0) -> 34530 | V32: =U32*0.1 -> 3453 | W32: =U32*0.0171 -> 590.463 | X32: =U32*0.03 -> 1035.9 | Y32: =U32*0.02 -> 690.6 | Z32: =SUM(U32:Y32) -> 40299.963 | AA32: =+F32*S32/360 -> 2877.5 | AB32: =+AA32+Z32 -> 43177.463 | AF32: 20
A33: =A32+1 -> 19 | B33: Tecnico VI - Investigador Agricola (Altiplano Centro y Norte) | C33: C | D33: 2022 | E33: Haber | F33: 6906 | G33: 0 | H33: 30 | I33: 30 | J33: 30 | K33: 30 | L33: 30 | M33: 0 | N33: 0 | O33: 0 | P33: 0 | Q33: 0 | R33: 0 | S33: =SUM(G33:R33) -> 150 | T33: =+S33/30 -> 5 | U33: =ROUND(PRODUCT(F33*T33),0) -> 34530 | V33: =U33*0.1 -> 3453 | W33: =U33*0.0171 -> 590.463 | X33: =U33*0.03 -> 1035.9 | Y33: =U33*0.02 -> 690.6 | Z33: =SUM(U33:Y33) -> 40299.963 | AA33: =+F33*S33/360 -> 2877.5
A34: =A33+1 -> 20 | B34: Auxiliar II Tecnico La Paz | C34: E | D34: 2022 | E34: Haber | F34: 3340 | G34: 0 | H34: 30 | I34: 30 | J34: 30 | K34: 30 | L34: 30 | M34: 0 | N34: 0 | O34: 0 | P34: 0 | Q34: 0 | R34: 0 | S34: =SUM(G34:R34) -> 150 | T34: =+S34/30 -> 5 | U34: =ROUND(PRODUCT(F34*T34),0) -> 16700 | V34: =U34*0.1 -> 1670 | W34: =U34*0.0171 -> 285.57 | X34: =U34*0.03 -> 501 | Y34: =U34*0.02 -> 334 | Z34: =SUM(U34:Y34) -> 19490.57 | AA34: =+F34*S34/360 -> 1391.6667 | AB34: =+AA34+Z34 -> 20882.237 | AF34: 30
B35: AREA DE CAPACITACION Y ASISTENCIA TECNICA | U35: =U38 -> 41436 | AB35: =+AA35+Z35 -> 0 | AF35: 30
A36: =A34+1 -> 21 | B36: Profesional VII - Responsable en Capacitación y Asistencia Técnica | C36: E | D36: 2022 | E36: Haber | F36: 10693 | G36: 25 | H36: 30 | I36: 30 | J36: 30 | K36: 30 | L36: 30 | M36: 30 | N36: 30 | O36: 30 | P36: 30 | Q36: 30 | R36: 30 | S36: =SUM(G36:R36) -> 355 | T36: =+S36/30 -> 11.833333 | U36: =ROUND(PRODUCT(F36*T36),0) -> 126534 | V36: =U36*0.1 -> 12653.4 | W36: =U36*0.0171 -> 2163.7314 | X36: =U36*0.03 -> 3796.02 | Y36: =U36*0.02 -> 2530.68 | Z36: =SUM(U36:Y36) -> 147677.83 | AA36: =+F36*S36/360 -> 10544.486 | AB36: =+AA36+Z36 -> 158222.32 | AF36: 10
A37: =A36+1 -> 22 | B37: Tecnico VI - en desarrollo de Capacidades | C37: E | D37: 2022 | E37: Haber | F37: 6906 | G37: 0 | H37: 20 | I37: 30 | J37: 30 | K37: 30 | L37: 30 | M37: 0 | N37: 0 | O37: 0 | P37: 0 | Q37: 0 | R37: 0 | S37: =SUM(G37:R37) -> 140 | T37: =+S37/30 -> 4.6666667 | U37: =ROUND(PRODUCT(F37*T37),0) -> 32228 | V37: =U37*0.1 -> 3222.8 | W37: =U37*0.0171 -> 551.0988 | X37: =U37*0.03 -> 966.84 | Y37: =U37*0.02 -> 644.56 | Z37: =SUM(U37:Y37) -> 37613.299 | AA37: =+F37*S37/360 -> 2685.6667 | AB37: =+AA37+Z37 -> 40298.965 | AF37: =SUM(AF32:AF36) -> 90
A38: =A37+1 -> 23 | B38: Tecnico VI - en alimentación y desarrollo de mercados | C38: C | D38: 2022 | E38: Haber | F38: 6906 | G38: 0 | H38: 30 | I38: 30 | J38: 30 | K38: 30 | L38: 30 | M38: 30 | N38: 0 | O38: 0 | P38: 0 | Q38: 0 | R38: 0 | S38: =SUM(G38:R38) -> 180 | T38: =+S38/30 -> 6 | U38: =ROUND(PRODUCT(F38*T38),0) -> 41436 | V38: =U38*0.1 -> 4143.6 | W38: =U38*0.0171 -> 708.5556 | X38: =U38*0.03 -> 1243.08 | Y38: =U38*0.02 -> 828.72 | Z38: =SUM(U38:Y38) -> 48359.956
B39: AREA GESTIÓN DE LA INFORMACION | U39: =U42 -> 41436 | V39: =U39*0.1 -> 4143.6 | W39: =U39*0.0171 -> 708.5556 | X39: =U39*0.03 -> 1243.08 | Y39: =U39*0.02 -> 828.72 | Z39: =SUM(U39:Y39) -> 48359.956 | AB39: =+AA39+Z39 -> 48359.956
A40: =A38+1 -> 24 | B40: Profesional VII - Responsable en Gestión de la Información | C40: E | D40: 2022 | E40: Haber | F40: 10693 | G40: 26 | H40: 30 | I40: 30 | J40: 30 | K40: 30 | L40: 30 | M40: 30 | N40: 30 | O40: 30 | P40: 30 | Q40: 30 | R40: 30 | S40: =SUM(G40:R40) -> 356 | T40: =+S40/30 -> 11.866667 | U40: =ROUND(PRODUCT(F40*T40),0) -> 126890 | V40: =U40*0.1 -> 12689 | W40: =U40*0.0171 -> 2169.819 | X40: =U40*0.03 -> 3806.7 | Y40: =U40*0.02 -> 2537.8 | Z40: =SUM(U40:Y40) -> 148093.32 | AA40: =+F40*S40/360 -> 10574.189 | AB40: =+AA40+Z40 -> 158667.51
A41: =A40+1 -> 25 | B41: Tecnico VI - en SIG | C41: E | D41: 2022 | E41: Haber | F41: 6906 | G41: 0 | H41: 20 | I41: 30 | J41: 30 | K41: 30 | L41: 30 | M41: 0 | N41: 0 | O41: 0 | P41: 0 | Q41: 0 | R41: 0 | S41: =SUM(G41:R41) -> 140 | T41: =+S41/30 -> 4.6666667 | U41: =ROUND(PRODUCT(F41*T41),0) -> 32228 | V41: =U41*0.1 -> 3222.8 | W41: =U41*0.0171 -> 551.0988 | X41: =U41*0.03 -> 966.84 | Y41: =U41*0.02 -> 644.56 | Z41: =SUM(U41:Y41) -> 37613.299 | AA41: =+F41*S41/360 -> 2685.6667 | AB41: =+AA41+Z41 -> 40298.965
A42: =A41+1 -> 26 | B42: Tecnico VI- Informatico y redes | C42: C | D42: 2022 | E42: Haber | F42: 6906 | G42: 0 | H42: 30 | I42: 30 | J42: 30 | K42: 30 | L42: 30 | M42: 30 | N42: 0 | O42: 0 | P42: 0 | Q42: 0 | R42: 0 | S42: =SUM(G42:R42) -> 180 | T42: =+S42/30 -> 6 | U42: =ROUND(PRODUCT(F42*T42),0) -> 41436 | V42: =U42*0.1 -> 4143.6 | W42: =U42*0.0171 -> 708.5556 | X42: =U42*0.03 -> 1243.08 | Y42: =U42*0.02 -> 828.72 | Z42: =SUM(U42:Y42) -> 48359.956 | AB42: =+AA42+Z42 -> 48359.956
AB43: =+AA43+Z43 -> 0
B44: Sueldo Personal CONSULTOR | C44: 18 | U44: =U17+U30+U35+U39 -> 220992 | V44: =SUM(V10:V43) -> 194528.2 | W44: =SUM(W10:W43) -> 33264.322 | X44: =SUM(X10:X43) -> 58358.46 | Y44: =SUM(Y10:Y43) -> 38905.64 | Z44: =SUM(Z12:Z43) -> 1996747 | AA44: =SUM(AA9:AA42) -> 137106.28 | AB44: =SUM(AB9:AB42) -> 2143197.6
B45: TOTAL 2021: | C45: 18 | U45: =SUM(U44:U44) -> 220992 | V45: =SUM(V44:V44) -> 194528.2 | W45: =SUM(W44:W44) -> 33264.322 | X45: =SUM(X44:X44) -> 58358.46 | Y45: =SUM(Y44:Y44) -> 38905.64
...

Sheet planilla salarial (5)
B2: CENTRO INTERNACIONAL DE LA QUINUA ESTRUCTURA DE PERSONAL Y PLANILLA POA 2022 (Expresada en Bolivianos)
B5: REPARTICION / CARGO | C5: T | D5: GESTION | E5: UNIDAD | F5: SUELDO MENSUAL | G5: MES | S5: DIAS | T5: MESES | U5: MONTO ANUAL | V5: APORTES PATRONALES | Z5: TOTAL | AA5: AGUINALDO
G6: ENE | H6: FEB | I6: MAR | J6: ABR | K6: MAY | L6: JUN | M6: JUL | N6: AGO | O6: SEP | P6: OCT | Q6: NOV | R6: DIC | V6: SALUD | W6: PENSIONES | X6: PATRONAL | Y6: VIVIENDA
B8: DIRECCION GENERAL EJECUTIVA
A10: 1 | B10: Director General Ejecutivo | C10: P | D10: 2022 | E10: Haber | F10: 19535 | G10: 30 | H10: 30 | I10: 30 | J10: 30 | K10: 30 | L10: 30 | M10: 30 | N10: 30 | O10: 30 | P10: 30 | Q10: 30 | R10: 30 | S10: =SUM(G10:R10) -> 360 | T10: =+S10/30 -> 12 | U10: =ROUND(PRODUCT(F10*T10),0) -> 234420 | V10: =U10*0.1 -> 23442 | W10: =U10*0.0171 -> 4008.582 | X10: =U10*0.03 -> 7032.6 | Y10: =U10*0.02 -> 4688.4 | Z10: =SUM(U10:Y10) -> 273591.58 | AA10: =+F10*S10/360 -> 19535 | AB10: =+AA10+Z10 -> 293126.58
B11: ASESORAMIENTO Y APOYO | AB11: =+AA11+Z11 -> 0
A12: =A10+1 -> 2 | B12: RESPONSABLE IV - Asesoria Juridica y Relaciones Internacionales | C12: E | D12: 2022 | E12: Haber | F12: 13738 | G12: 26 | H12: 30 | I12: 30 | J12: 30 | K12: 30 | L12: 30 | M12: 30 | N12: 30 | O12: 30 | P12: 30 | Q12: 30 | R12: 30 | S12: =SUM(G12:R12) -> 356 | T12: =+S12/30 -> 11.866667 | U12: =ROUND(PRODUCT(F12*T12),0) -> 163024 | V12: =U12*0.1 -> 16302.4 | W12: =U12*0.0171 -> 2787.7104 | X12: =U12*0.03 -> 4890.72 | Y12: =U12*0.02 -> 3260.48 | Z12: =SUM(U12:Y12) -> 190265.31 | AA12: =+F12*S12/360 -> 13585.356 | AB12: =+AA12+Z12 -> 203850.67
A13: =A12+1 -> 3 | B13: Administrativo I - Secretaria Dirección General | C13: E | D13: 2022 | E13: Haber | F13: 5971 | G13: 0 | H13: 30 | I13: 30 | J13: 30 | K13: 30 | L13: 30 | M13: 30 | N13: 30 | O13: 30 | P13: 30 | Q13: 30 | R13: 30 | S13: =SUM(G13:R13) -> 330 | T13: =+S13/30 -> 11 | U13: =ROUND(PRODUCT(F13*T13),0) -> 65681 | V13: =U13*0.1 -> 6568.1 | W13: =U13*0.0171 -> 1123.1451 | X13: =U13*0.03 -> 1970.43 | Y13: =U13*0.02 -> 1313.62 | Z13: =SUM(U13:Y13) -> 76656.295 | AA13: =+F13*S13/360 -> 5473.4167 | AB13: =+AA13+Z13 -> 82129.712
A14: =A13+1 -> 4 | B14: TECNICO IV - Técnico Comunicador | C14: E | D14: 2022 | E14: Haber | F14: 8689 | G14: 0 | H14: 0 | I14: 0 | J14: 0 | K14: 30 | L14: 30 | M14: 30 | N14: 30 | O14: 30 | P14: 30 | Q14: 30 | R14: 30 | S14: =SUM(G14:R14) -> 240 | T14: =+S14/30 -> 8 | U14: =ROUND(PRODUCT(F14*T14),0) -> 69512 | V14: =U14*0.1 -> 6951.2 | W14: =U14*0.0171 -> 1188.6552 | X14: =U14*0.03 -> 2085.36 | Y14: =U14*0.02 -> 1390.24 | Z14: =SUM(U14:Y14) -> 81127.455 | AA14: =+F14*S14/360 -> 5792.6667 | AB14: =+AA14+Z14 -> 86920.122
B15: CONTROL | AB15: =+AA15+Z15 -> 0
A16: =A14+1 -> 5 | B16: PROFESIONAL IX - Auditoria Interna | C16: E | D16: 2022 | E16: Haber | F16: 9282 | G16: 26 | H16: 30 | I16: 30 | J16: 0 | K16: 0 | L16: 0 | M16: 0 | N16: 0 | O16: 0 | P16: 0 | Q16: 30 | R16: 30 | S16: =SUM(G16:R16) -> 146 | T16: =+S16/30 -> 4.8666667 | U16: =ROUND(PRODUCT(F16*T16),0) -> 45172 | V16: =U16*0.1 -> 4517.2 | W16: =U16*0.0171 -> 772.4412 | X16: =U16*0.03 -> 1355.16 | Y16: =U16*0.02 -> 903.44 | Z16: =SUM(U16:Y16) -> 52720.241 | AB16: =+AA16+Z16 -> 52720.241
B17: AREA DE PLANIFICACIÓN, MONITOREO Y EVALUACIÓN
A18: =A16+1 -> 6 | B18: RESPONSABLE IV- Responsable de Planificacion, Monitoreo y Evaluación | C18: E | D18: 2022 | E18: Haber | F18: 13738 | G18: 26 | H18: 30 | I18: 30 | J18: 30 | K18: 30 | L18: 30 | M18: 30 | N18: 30 | O18: 30 | P18: 30 | Q18: 30 | R18: 30 | S18: =SUM(G18:R18) -> 356 | T18: =+S18/30 -> 11.866667 | U18: =ROUND(PRODUCT(F18*T18),0) -> 163024 | V18: =U18*0.1 -> 16302.4 | W18: =U18*0.0171 -> 2787.7104 | X18: =U18*0.03 -> 4890.72 | Y18: =U18*0.02 -> 3260.48 | Z18: =SUM(U18:Y18) -> 190265.31 | AA18: =+F18*S18/360 -> 13585.356 | AB18: =+AA18+Z18 -> 203850.67
A19: =A18+1 -> 7 | B19: TECNICO IV - de Gestión de Proyectos y Financiamiento | C19: E | D19: 2022 | E19: Haber | F19: 8689 | G19: 0 | H19: 0 | I19: 0 | J19: 0 | K19: 0 | L19: 0 | M19: 0 | N19: 30 | O19: 30 | P19: 30 | Q19: 30 | R19: 30 | S19: =SUM(G19:R19) -> 150 | T19: =+S19/30 -> 5 | U19: =ROUND(PRODUCT(F19*T19),0) -> 43445 | V19: =U19*0.1 -> 4344.5 | W19: =U19*0.0171 -> 742.9095 | X19: =U19*0.03 -> 1303.35 | Y19: =U19*0.02 -> 868.9 | Z19: =SUM(U19:Y19) -> 50704.66 | AA19: =+F19*S19/360 -> 3620.4167
A20: =A19+1 -> 8 | B20: Tecnico IV - Civil | C20: C | D20: 2022 | E20: Haber | F20: 8689 | G20: 26 | H20: 30 | I20: 30 | J20: 30 | K20: 30 | L20: 0 | M20: 0 | N20: 0 | O20: 0 | P20: 0 | Q20: 0 | R20: 0 | S20: =SUM(G20:R20) -> 146 | T20: =+S20/30 -> 4.8666667 | U20: =ROUND(PRODUCT(F20*T20),0) -> 42286 | V20: =U20*0.1 -> 4228.6 | W20: =U20*0.0171 -> 723.0906 | X20: =U20*0.03 -> 1268.58 | Y20: =U20*0.02 -> 845.72 | Z20: =SUM(U20:Y20) -> 49351.991 | AA20: =+F20*S20/360 -> 3523.8722
A21: =A20+1 -> 9 | B21: Tecnico IV - en Medio Ambiente y Cambio Climatico | C21: E | D21: 2022 | E21: Haber | F21: 8689 | G21: 0 | H21: 0 | I21: 0 | J21: 0 | K21: 0 | L21: 0 | M21: 0 | N21: 30 | O21: 30 | P21: 30 | Q21: 30 | R21: 30 | S21: =SUM(G21:R21) -> 150 | T21: =+S21/30 -> 5 | U21: =ROUND(PRODUCT(F21*T21),0) -> 43445 | V21: =U21*0.1 -> 4344.5 | W21: =U21*0.0171 -> 742.9095 | X21: =U21*0.03 -> 1303.35 | Y21: =U21*0.02 -> 868.9 | Z21: =SUM(U21:Y21) -> 50704.66 | AA21: =+F21*S21/360 -> 3620.4167
A22: =A21+1 -> 10 | B22: Tecnico IV- Proyectista | C22: C | D22: 2022 | E22: Haber | F22: 8689 | G22: 0 | H22: 0 | I22: 0 | J22: 0 | K22: 0 | L22: 0 | M22: 0 | N22: 30 | O22: 30 | P22: 30 | Q22: 30 | R22: 30 | S22: =SUM(G22:R22) -> 150 | T22: =+S22/30 -> 5 | U22: =ROUND(PRODUCT(F22*T22),0) -> 43445 | V22: =U22*0.1 -> 4344.5 | W22: =U22*0.0171 -> 742.9095 | X22: =U22*0.03 -> 1303.35 | Y22: =U22*0.02 -> 868.9 | Z22: =SUM(U22:Y22) -> 50704.66 | AA22: =+F22*S22/360 -> 3620.4167
B23: AREA ADMINISTRATIVA FINANCIERA | AB23: =+AA23+Z23 -> 0
A24: =A22+1 -> 11 | B24: RESPONSABLE IV- Responsable Administrativo Financiero | C24: E | D24: 2022 | E24: Haber | F24: 13738 | G24: 26 | H24: 30 | I24: 30 | J24: 30 | K24: 30 | L24: 30 | M24: 30 | N24: 30 | O24: 30 | P24: 30 | Q24: 30 | R24: 30 | S24: =SUM(G24:R24) -> 356 | T24: =+S24/30 -> 11.866667 | U24: =ROUND(PRODUCT(F24*T24),0) -> 163024 | V24: =U24*0.1 -> 16302.4 | W24: =U24*0.0171 -> 2787.7104 | X24: =U24*0.03 -> 4890.72 | Y24: =U24*0.02 -> 3260.48 | Z24: =SUM(U24:Y24) -> 190265.31 | AA24: =+F24*S24/360 -> 13585.356 | AB24: =+AA24+Z24 -> 203850.67
A25: =A24+1 -> 12 | B25: Profesional VIII - Contabilidad, Presupuestos y Contrataciones | C25: E | D25: 2022 | E25: Haber | F25: 10173 | G25: 26 | H25: 30 | I25: 30 | J25: 30 | K25: 30 | L25: 30 | M25: 30 | N25: 30 | O25: 30 | P25: 30 | Q25: 30 | R25: 30 | S25: =SUM(G25:R25) -> 356 | T25: =+S25/30 -> 11.866667 | U25: =ROUND(PRODUCT(F25*T25),0) -> 120720 | V25: =U25*0.1 -> 12072 | W25: =U25*0.0171 -> 2064.312 | X25: =U25*0.03 -> 3621.6 | Y25: =U25*0.02 -> 2414.4 | Z25: =SUM(U25:Y25) -> 140892.31 | AA25: =+F25*S25/360 -> 10059.967 | AB25: =+AA25+Z25 -> 150952.28
A26: =A25+1 -> 13 | B26: Administrativo I Auxiliar Administrativo | C26: E | D26: 2022 | E26: Haber | F26: 5971 | G26: 0 | H26: 20 | I26: 30 | J26: 30 | K26: 30 | L26: 30 | M26: 30 | N26: 30 | O26: 30 | P26: 30 | Q26: 30 | R26: 30 | S26: =SUM(G26:R26) -> 320 | T26: =+S26/30 -> 10.666667 | U26: =ROUND(PRODUCT(F26*T26),0) -> 63691 | V26: =U26*0.1 -> 6369.1 | W26: =U26*0.0171 -> 1089.1161 | X26: =U26*0.03 -> 1910.73 | Y26: =U26*0.02 -> 1273.82 | Z26: =SUM(U26:Y26) -> 74333.766 | AA26: =+F26*S26/360 -> 5307.5556 | AB26: =+AA26+Z26 -> 79641.322
A27: =A26+1 -> 14 | B27: Auxiliar I - Mensajero enlace La Paz | C27: E | D27: 2022 | E27: Haber | F27: 4009 | G27: 23 | H27: 30 | I27: 30 | J27: 30 | K27: 30 | L27: 30 | M27: 30 | N27: 30 | O27: 30 | P27: 30 | Q27: 30 | R27: 30 | S27: =SUM(G27:R27) -> 353 | T27: =+S27/30 -> 11.766667 | U27: =ROUND(PRODUCT(F27*T27),0) -> 47173 | V27: =U27*0.1 -> 4717.3 | W27: =U27*0.0171 -> 806.6583 | X27: =U27*0.03 -> 1415.19 | Y27: =U27*0.02 -> 943.46 | Z27: =SUM(U27:Y27) -> 55055.608 | AA27: =+F27*S27/360 -> 3931.0472 | AB27: =+AA27+Z27 -> 58986.656
A28: =A27+1 -> 15 | B28: ADMINISTRATIVO II - Chofer I | C28: E | D28: 2022 | E28: Haber | F28: 5494 | G28: 26 | H28: 30 | I28: 30 | J28: 30 | K28: 30 | L28: 30 | M28: 30 | N28: 30 | O28: 30 | P28: 30 | Q28: 30 | R28: 30 | S28: =SUM(G28:R28) -> 356 | T28: =+S28/30 -> 11.866667 | U28: =ROUND(PRODUCT(F28*T28),0) -> 65195 | V28: =U28*0.1 -> 6519.5 | W28: =U28*0.0171 -> 1114.8345 | X28: =U28*0.03 -> 1955.85 | Y28: =U28*0.02 -> 1303.9 | Z28: =SUM(U28:Y28) -> 76089.084 | AA28: =+F28*S28/360 -> 5432.9556 | AB28: =+AA28+Z28 -> 81522.04
A29: =A28+1 -> 16 | B29: ADMINISTRATIVO III - Chofer II | C29: E | D29: 2022 | E29: Haber | F29: 4827 | G29: 0 | H29: 30 | I29: 30 | J29: 30 | K29: 30 | L29: 30 | M29: 0 | N29: 0 | O29: 0 | P29: 0 | Q29: 0 | R29: 0 | S29: =SUM(G29:R29) -> 150 | T29: =+S29/30 -> 5 | U29: =ROUND(PRODUCT(F29*T29),0) -> 24135 | V29: =U29*0.1 -> 2413.5 | W29: =U29*0.0171 -> 412.7085 | X29: =U29*0.03 -> 724.05 | Y29: =U29*0.02 -> 482.7 | Z29: =SUM(U29:Y29) -> 28167.959 | AA29: =+F29*S29/360 -> 2011.25 | AB29: =+AA29+Z29 -> 30179.209
B30: AREA DE INVESTIGACION Y DESARROLLO | AB30: =+AA30+Z30 -> 0
A31: =A29+1 -> 17 | B31: RESPONSABLE IV - Responsable en Investigación y Desarrollo | C31: E | D31: 2022 | E31: Haber | F31: 13738 | G31: 20 | H31: 30 | I31: 30 | J31: 30 | K31: 30 | L31: 30 | M31: 30 | N31: 30 | O31: 30 | P31: 30 | Q31: 30 | R31: 30 | S31: =SUM(G31:R31) -> 350 | T31: =+S31/30 -> 11.666667 | U31: =ROUND(PRODUCT(F31*T31),0) -> 160277 | V31: =U31*0.1 -> 16027.7 | W31: =U31*0.0171 -> 2740.7367 | X31: =U31*0.03 -> 4808.31 | Y31: =U31*0.02 -> 3205.54 | Z31: =SUM(U31:Y31) -> 187059.29 | AA31: =+F31*S31/360 -> 13356.389 | AB31: =+AA31+Z31 -> 200415.68
A32: =A31+1 -> 18 | B32: PROFESIONAL IX- Investigador Agricola (Altiplano Sur) | C32: C | D32: 2022 | E32: Haber | F32: 9282 | G32: 0 | H32: 30 | I32: 30 | J32: 30 | K32: 0 | L32: 0 | M32: 0 | N32: 0 | O32: 0 | P32: 0 | Q32: 0 | R32: 0 | S32: =SUM(G32:R32) -> 90 | T32: =+S32/30 -> 3 | U32: =ROUND(PRODUCT(F32*T32),0) -> 27846 | V32: =U32*0.1 -> 2784.6 | W32: =U32*0.0171 -> 476.1666 | X32: =U32*0.03 -> 835.38 | Y32: =U32*0.02 -> 556.92 | Z32: =SUM(U32:Y32) -> 32499.067 | AA32: =+F32*S32/360 -> 2320.5 | AB32: =+AA32+Z32 -> 34819.567 | AF32: 20
A33: =A32+1 -> 19 | B33: PROFESIONAL IX- Investigador Agricola (Altiplano Centro y Norte) | C33: C | D33: 2022 | E33: Haber | F33: 9282 | G33: 0 | H33: 30 | I33: 30 | J33: 0 | K33: 0 | L33: 0 | M33: 0 | N33: 0 | O33: 0 | P33: 0 | Q33: 0 | R33: 0 | S33: =SUM(G33:R33) -> 60 | T33: =+S33/30 -> 2 | U33: =ROUND(PRODUCT(F33*T33),0) -> 18564 | V33: =U33*0.1 -> 1856.4 | W33: =U33*0.0171 -> 317.4444 | X33: =U33*0.03 -> 556.92 | Y33: =U33*0.02 -> 371.28 | Z33: =SUM(U33:Y33) -> 21666.044 | AA33: =+F33*S33/360 -> 1547
A34: =A33+1 -> 20 | B34: ADMINISTRATIVO IV Tecnico La Paz | C34: E | D34: 2022 | E34: Haber | F34: 4529 | G34: 0 | H34: 30 | I34: 30 | J34: 30 | K34: 30 | L34: 30 | M34: 0 | N34: 0 | O34: 0 | P34: 0 | Q34: 0 | R34: 0 | S34: =SUM(G34:R34) -> 150 | T34: =+S34/30 -> 5 | U34: =ROUND(PRODUCT(F34*T34),0) -> 22645 | V34: =U34*0.1 -> 2264.5 | W34: =U34*0.0171 -> 387.2295 | X34: =U34*0.03 -> 679.35 | Y34: =U34*0.02 -> 452.9 | Z34: =SUM(U34:Y34) -> 26428.98 | AA34: =+F34*S34/360 -> 1887.0833 | AB34: =+AA34+Z34 -> 28316.063 | AF34: 30
B35: AREA DE CAPACITACION Y ASISTENCIA TECNICA | AB35: =+AA35+Z35 -> 0 | AF35: 30
A36: =A34+1 -> 21 | B36: RESPONSABLE IV - Responsable en Capacitación y Asistencia Técnica | C36: E | D36: 2022 | E36: Haber | F36: 13738 | G36: 25 | H36: 30 | I36: 30 | J36: 30 | K36: 30 | L36: 30 | M36: 30 | N36: 30 | O36: 30 | P36: 30 | Q36: 30 | R36: 30 | S36: =SUM(G36:R36) -> 355 | T36: =+S36/30 -> 11.833333 | U36: =ROUND(PRODUCT(F36*T36),0) -> 162566 | V36: =U36*0.1 -> 16256.6 | W36: =U36*0.0171 -> 2779.8786 | X36: =U36*0.03 -> 4876.98 | Y36: =U36*0.02 -> 3251.32 | Z36: =SUM(U36:Y36) -> 189730.78 | AA36: =+F36*S36/360 -> 13547.194 | AB36: =+AA36+Z36 -> 203277.97 | AF36: 10
A37: =A36+1 -> 22 | B37: PROFESIONAL IX- en desarrollo de Capacidades | C37: E | D37: 2022 | E37: Haber | F37: 9282 | G37: 0 | H37: 20 | I37: 30 | J37: 30 | K37: 30 | L37: 30 | M37: 0 | N37: 0 | O37: 0 | P37: 0 | Q37: 0 | R37: 0 | S37: =SUM(G37:R37) -> 140 | T37: =+S37/30 -> 4.6666667 | U37: =ROUND(PRODUCT(F37*T37),0) -> 43316 | V37: =U37*0.1 -> 4331.6 | W37: =U37*0.0171 -> 740.7036 | X37: =U37*0.03 -> 1299.48 | Y37: =U37*0.02 -> 866.32 | Z37: =SUM(U37:Y37) -> 50554.104 | AA37: =+F37*S37/360 -> 3609.6667 | AB37: =+AA37+Z37 -> 54163.77 | AF37: =SUM(AF32:AF36) -> 90
A38: =A37+1 -> 23 | B38: PROFESIONAL IX- en alimentación y desarrollo de mercados | C38: C | D38: 2022 | E38: Haber | F38: 9282 | G38: 0 | H38: 30 | I38: 0 | J38: 0 | K38: 0 | L38: 0 | M38: 0 | N38: 0 | O38: 0 | P38: 0 | Q38: 0 | R38: 0 | S38: =SUM(G38:R38) -> 30 | T38: =+S38/30 -> 1 | U38: =ROUND(PRODUCT(F38*T38),0) -> 9282 | V38: =U38*0.1 -> 928.2 | W38: =U38*0.0171 -> 158.7222 | X38: =U38*0.03 -> 278.46 | Y38: =U38*0.02 -> 185.64 | Z38: =SUM(U38:Y38) -> 10833.022
B39: AREA GESTIÓN DE LA INFORMACION | AB39: =+AA39+Z39 -> 0
A40: =A38+1 -> 24 | B40: RESPONSABLE IV - Responsable en Gestión de la Información | C40: E | D40: 2022 | E40: Haber | F40: 13738 | G40: 26 | H40: 30 | I40: 30 | J40: 30 | K40: 30 | L40: 30 | M40: 30 | N40: 30 | O40: 30 | P40: 30 | Q40: 30 | R40: 30 | S40: =SUM(G40:R40) -> 356 | T40: =+S40/30 -> 11.866667 | U40: =ROUND(PRODUCT(F40*T40),0) -> 163024 | V40: =U40*0.1 -> 16302.4 | W40: =U40*0.0171 -> 2787.7104 | X40: =U40*0.03 -> 4890.72 | Y40: =U40*0.02 -> 3260.48 | Z40: =SUM(U40:Y40) -> 190265.31 | AA40: =+F40*S40/360 -> 13585.356 | AB40: =+AA40+Z40 -> 203850.67
A41: =A40+1 -> 25 | B41: PROFESIONAL IX - en SIG | C41: E | D41: 2022 | E41: Haber | F41: 9282 | G41: 0 | H41: 20 | I41: 30 | J41: 30 | K41: 30 | L41: 30 | M41: 0 | N41: 0 | O41: 0 | P41: 0 | Q41: 0 | R41: 0 | S41: =SUM(G41:R41) -> 140 | T41: =+S41/30 -> 4.6666667 | U41: =ROUND(PRODUCT(F41*T41),0) -> 43316 | V41: =U41*0.1 -> 4331.6 | W41: =U41*0.0171 -> 740.7036 | X41: =U41*0.03 -> 1299.48 | Y41: =U41*0.02 -> 866.32 | Z41: =SUM(U41:Y41) -> 50554.104 | AA41: =+F41*S41/360 -> 3609.6667 | AB41: =+AA41+Z41 -> 54163.77
A42: =A41+1 -> 26 | B42: PROFESIONAL IX- Informatico y redes | C42: C | D42: 2022 | E42: Haber | F42: 9282 | G42: 0 | H42: 30 | I42: 0 | J42: 0 | K42: 0 | L42: 0 | M42: 0 | N42: 0 | O42: 0 | P42: 0 | Q42: 0 | R42: 0 | S42: =SUM(G42:R42) -> 30 | T42: =+S42/30 -> 1 | U42: =ROUND(PRODUCT(F42*T42),0) -> 9282 | V42: =U42*0.1 -> 928.2 | W42: =U42*0.0171 -> 158.7222 | X42: =U42*0.03 -> 278.46 | Y42: =U42*0.02 -> 185.64 | Z42: =SUM(U42:Y42) -> 10833.022 | AB42: =+AA42+Z42 -> 10833.022
AB43: =+AA43+Z43 -> 0
B44: Sueldo Personal | C44: 18 | U44: =SUM(U12:U43) -> 1823090 | V44: =SUM(V10:V43) -> 205751 | W44: =SUM(W10:W43) -> 35183.421 | X44: =SUM(X10:X43) -> 61725.3 | Y44: =SUM(Y10:Y43) -> 41150.2 | Z44: =SUM(Z12:Z43) -> 2127728.3 | AA44: =SUM(AA9:AA42) -> 166147.9 | AB44: =SUM(AB9:AB42) -> 2317570.7
B45: TOTAL 2021: | C45: 18 | U45: =SUM(U44:U44) -> 1823090 | V45: =SUM(V44:V44) -> 205751 | W45: =SUM(W44:W44) -> 35183.421 | X45: =SUM(X44:X44) -> 61725.3 | Y45: =SUM(Y44:Y44) -> 41150.2
...

Sheet ESCALA SALARIAL-PROPUESTA
B6: ESCALA SALARIAL MAESTRA PROPUESTA
B7: FONDO DE FINANCIAMIENTO PARA LA MINERIA
B8: (Expresado en Bolivianos)
B9: ENTIDAD: | C9: 130 FONDO DE FINANCIAMIENTO PARA LA MINERIA
B10: FUENTE: | C10: 20 "RECURSOS ESPECÍFICOS"
B11: ORGANISMO FINANCIADOR: | C11: 230 "OTROS RECURSOS ESPECÍFICOS"
B12: GASTOS: | C12: CORRIENTE
B13: CATEGORIA | C13: NIVEL SALARIAL | D13: DENOMINACION DEL PUESTO | E13: No. DE ITEMS | F13: N° DE CASOS | G13: SUELDO O HABER MENSUAL | H13: COSTO MENSUAL
B14: EJECUTIVO | C14: 7 | D14: ESPECIALISTA II | F14: 1 | G14: 16958 | H14: =F14*G14 -> 16958
B15: OPERATIVO | C15: 11 | D15: RESPONSABLE IV | F15: 3 | G15: 13738 | H15: =F15*G15 -> 41214
C16: 15 | D16: PROFESIONAL VII | F16: 3 | G16: 10693 | H16: =F16*G16 -> 32079
C17: 17 | D17: PROFESIONAL IX | F17: 5 | G17: 9282 | H17: =F17*G17 -> 46410
C18: 18 | D18: TECNICO IV | F18: 1 | G18: 8950 | H18: =F18*G18 -> 8950
C19: 19 | D19: TECNICO V | F19: 2 | G19: 7722 | H19: =F19*G19 -> 15444
C20: 20 | D20: TECNICO VI | F20: 5 | G20: 7204 | H20: =F20*G20 -> 36020
C21: 21 | D21: ADMINISTRATIVO I | F21: 2 | G21: 5971 | H21: =F21*G21 -> 11942
C22: 22 | D22: ADMINISTRATIVO II | F22: 1 | G22: 5494 | H22: =F22*G22 -> 5494
C23: 25 | D23: AUXILIAR I | F23: 3 | G23: 4009 | H23: =F23*G23 -> 12027
C24: 26 | D24: AUXILIAR II | F24: 1 | G24: 3340 | H24: =F24*G24 -> 3340
C25: TOTAL NUMERO DE ITEMS | E25: 0 | F25: =SUM(F14:F24) -> 27
C26: TOTAL COSTO MENSUAL | H26: =SUM(H14:H24) -> 229878
C27: TOTAL COSTO ANUAL | H27: =H26*12 -> 2758536

Sheet ESTRUCTURA DE CARGOS
B2: FOFIM POA 2024 (Expresada en Bolivianos)
B3: ESTRUCTURA DE CARGOS-FOFIM 2024-PROPUESTA
B5: DENOMINACION DE PUESTO | C5: DESCRIPCION DEL PUESTO | D5: TIPO | E5: GESTION | F5: CATEGORIA | G5: HABER BASICO | H5: SALUD (10%) | I5: PRIMA RIESGO PROFESONAL(1.71%) | J5: PATRONAL (3%) | K5: VIVIENDA(2%)
B7: Especialista II | C7: Director General Ejecutivo | D7: E | E7: 2024 | F7: EJECUTIVO | G7: ='ESCALA SALARIAL-PROPUESTA'!G14 -> 16958 | H7: =G7*0.1 -> 1695.8 | I7: =G7*0.0171 -> 289.9818 | J7: =G7*0.03 -> 508.74 | K7: =G7*0.02 -> 339.16
B8: DIRECCION GENERAL EJECUTIVA | H8: =G8*0.1 -> 0 | I8: =G8*0.0171 -> 0 | J8: =G8*0.03 -> 0 | K8: =G8*0.02 -> 0
B9: Profesional VII | C9: Responsable de la Unida de Auditoria Interna | D9: E | E9: 2024 | F9: OPERATIVO | G9: 10693 | H9: =G9*0.1 -> 1069.3 | I9: =G9*0.0171 -> 182.8503 | J9: =G9*0.03 -> 320.79 | K9: =G9*0.02 -> 213.86
B10: Administrativo I | C10: Profesional en Transparencia y Lucha contra la Corrupcion | D10: E | E10: 2024 | F10: OPERATIVO | G10: 5971 | H10: =G10*0.1 -> 597.1 | I10: =G10*0.0171 -> 102.1041 | J10: =G10*0.03 -> 179.13 | K10: =G10*0.02 -> 119.42
B11: Tecnico VI | C11: Profesional en Planificacion Institucional | D11: E | E11: 2024 | F11: OPERATIVO | G11: =6906+298 -> 7204 | H11: =G11*0.1 -> 720.4 | I11: =G11*0.0171 -> 123.1884 | J11: =G11*0.03 -> 216.12 | K11: =G11*0.02 -> 144.08
B12: Tecnico VI | C12: Profesional en Comunicación Institucional | D12: E | E12: 2024 | F12: OPERATIVO | G12: =6906+298 -> 7204 | H12: =G12*0.1 -> 720.4 | I12: =G12*0.0171 -> 123.1884 | J12: =G12*0.03 -> 216.12 | K12: =G12*0.02 -> 144.08
B13: Auxiliar I | C13: Secretaria de DGE | D13: E | E13: 2024 | F13: OPERATIVO | G13: 4009 | H13: =G13*0.1 -> 400.9 | I13: =G13*0.0171 -> 68.5539 | J13: =G13*0.03 -> 120.27 | K13: =G13*0.02 -> 80.18
B14: Auxiliar I | C14: Chofer Mensajero DGE | D14: E | E14: 2024 | F14: OPERATIVO | G14: 4009 | H14: =G14*0.1 -> 400.9 | I14: =G14*0.0171 -> 68.5539 | J14: =G14*0.03 -> 120.27 | K14: =G14*0.02 -> 80.18
B15: DIRECCIÓN DE ASUNTOS JURIDICOS | H15: =G15*0.1 -> 0 | I15: =G15*0.0171 -> 0 | J15: =G15*0.03 -> 0 | K15: =G15*0.02 -> 0
B16: Responsable IV | C16: Director de Asuntos Juridicos | D16: E | E16: 2024 | F16: OPERATIVO | G16: 13738 | H16: =G16*0.1 -> 1373.8 | I16: =G16*0.0171 -> 234.9198 | J16: =G16*0.03 -> 412.14 | K16: =G16*0.02 -> 274.76
B17: Tecnico IV | C17: Profesional en Analisis Juridico | D17: E | E17: 2024 | F17: OPERATIVO | G17: 8950 | H17: =G17*0.1 -> 895 | I17: =G17*0.0171 -> 153.045 | J17: =G17*0.03 -> 268.5 | K17: =G17*0.02 -> 179
B18: Tecnico VI | C18: Profesional en Gestion Juridica | D18: E | E18: 2024 | F18: OPERATIVO | G18: =6906+298 -> 7204 | H18: =G18*0.1 -> 720.4 | I18: =G18*0.0171 -> 123.1884 | J18: =G18*0.03 -> 216.12 | K18: =G18*0.02 -> 144.08
B19: Administrativo II | C19: Tecnico Abogado Procurador | D19: E | E19: 2024 | F19: OPERATIVO | G19: 5494 | H19: =G19*0.1 -> 549.4 | I19: =G19*0.0171 -> 93.9474 | J19: =G19*0.03 -> 164.82 | K19: =G19*0.02 -> 109.88
B20: DIRECCIÓN ADMINISTRATIVA FINANCIERA | H20: =G20*0.1 -> 0 | I20: =G20*0.0171 -> 0 | J20: =G20*0.03 -> 0 | K20: =G20*0.02 -> 0
B21: Responsable IV | C21: Director Administrativo Financiero | D21: E | E21: 2024 | F21: OPERATIVO | G21: 13738 | H21: =G21*0.1 -> 1373.8 | I21: =G21*0.0171 -> 234.9198 | J21: =G21*0.03 -> 412.14 | K21: =G21*0.02 -> 274.76
B22: Profesional IX | C22: Profesional Presupuesto Contable | D22: E | E22: 2024 | F22: OPERATIVO | G22: 9282 | H22: =G22*0.1 -> 928.2 | I22: =G22*0.0171 -> 158.7222 | J22: =G22*0.03 -> 278.46 | K22: =G22*0.02 -> 185.64
B23: Tecnico VI | C23: Profesional Administrativo y Recursos Humanos | D23: E | E23: 2024 | F23: OPERATIVO | G23: =6906+298 -> 7204 | H23: =G23*0.1 -> 720.4 | I23: =G23*0.0171 -> 123.1884 | J23: =G23*0.03 -> 216.12 | K23: =G23*0.02 -> 144.08
B24: Tecnico VI | C24: Tecnico en Sistemas y Soporte Tecnico | D24: E | E24: 2024 | F24: OPERATIVO | G24: =6906+298 -> 7204 | H24: =G24*0.1 -> 720.4 | I24: =G24*0.0171 -> 123.1884 | J24: =G24*0.03 -> 216.12 | K24: =G24*0.02 -> 144.08
B25: Administrativo I | C25: Tecnico de Almacenes, Activos Fijos y Contrataciones | D25: E | E25: 2024 | F25: OPERATIVO | G25: 5971 | H25: =G25*0.1 -> 597.1 | I25: =G25*0.0171 -> 102.1041 | J25: =G25*0.03 -> 179.13 | K25: =G25*0.02 -> 119.42
B26: Auxiliar II | C26: Auxiliar de Limpieza | D26: E | E26: 2024 | F26: OPERATIVO | G26: 3340 | H26: =G26*0.1 -> 334 | I26: =G26*0.0171 -> 57.114 | J26: =G26*0.03 -> 100.2 | K26: =G26*0.02 -> 66.8
B27: DIRECCION INTEGRAL DE PRÉSTAMOS | H27: =G27*0.1 -> 0 | I27: =G27*0.0171 -> 0 | J27: =G27*0.03 -> 0 | K27: =G27*0.02 -> 0
B28: Responsable IV | C28: Director Integral de Prestamos | D28: E | E28: 2024 | F28: OPERATIVO | G28: 13738 | H28: =G28*0.1 -> 1373.8 | I28: =G28*0.0171 -> 234.9198 | J28: =G28*0.03 -> 412.14 | K28: =G28*0.02 -> 274.76
B29: Profesional VII | C29: Responsable de la Unidad Tecnica de Préstamos | D29: E | E29: 2024 | F29: OPERATIVO | G29: 10693 | H29: =G29*0.1 -> 1069.3 | I29: =G29*0.0171 -> 182.8503 | J29: =G29*0.03 -> 320.79 | K29: =G29*0.02 -> 213.86
B30: Profesional VII | C30: Responsable de la Unidad Tecnica de Proyectos | D30: E | E30: 2024 | F30: OPERATIVO | G30: 10693 | H30: =G30*0.1 -> 1069.3 | I30: =G30*0.0171 -> 182.8503 | J30: =G30*0.03 -> 320.79 | K30: =G30*0.02 -> 213.86
B31: Profesional IX | C31: Profesional Ingeniero Geólogo | D31: E | E31: 2024 | F31: OPERATIVO | G31: 9282 | H31: =G31*0.1 -> 928.2 | I31: =G31*0.0171 -> 158.7222 | J31: =G31*0.03 -> 278.46 | K31: =G31*0.02 -> 185.64
B32: Profesional IX | C32: Profesional Ingeniero Metalurgista | D32: E | E32: 2024 | F32: OPERATIVO | G32: 9282 | H32: =G32*0.1 -> 928.2 | I32: =G32*0.0171 -> 158.7222 | J32: =G32*0.03 -> 278.46 | K32: =G32*0.02 -> 185.64
B33: Profesional IX | C33: Profesional Ingeniero Minero | D33: E | E33: 2024 | F33: OPERATIVO | G33: 9282 | H33: =G33*0.1 -> 928.2 | I33: =G33*0.0171 -> 158.7222 | J33: =G33*0.03 -> 278.46 | K33: =G33*0.02 -> 185.64
B34: Profesional IX | C34: Profesional en Prestamos y Cobranzas | D34: E | E34: 2024 | F34: OPERATIVO | G34: 9282 | H34: =G34*0.1 -> 928.2 | I34: =G34*0.0171 -> 158.7222 | J34: =G34*0.03 -> 278.46 | K34: =G34*0.02 -> 185.64
B35: Tecnico V | C35: Tecnico en Prestamos y Cobranzas | D35: E | E35: 2024 | F35: OPERATIVO | G35: 7722 | H35: =G35*0.1 -> 772.2 | I35: =G35*0.0171 -> 132.0462 | J35: =G35*0.03 -> 231.66 | K35: =G35*0.02 -> 154.44
B36: Tecnico V | C36: Tecnico Economista | D36: E | E36: 2024 | F36: OPERATIVO | G36: 7722 | H36: =G36*0.1 -> 772.2 | I36: =G36*0.0171 -> 132.0462 | J36: =G36*0.03 -> 231.66 | K36: =G36*0.02 -> 154.44
B37: Auxiliar I | C37: Chofer Mensajero Operaciones Crediticias | D37: E | E37: 2024 | F37: OPERATIVO | G37: 4009 | H37: =G37*0.1 -> 400.9 | I37: =G37*0.0171 -> 68.5539 | J37: =G37*0.03 -> 120.27 | K37: =G37*0.02 -> 80.18
B38: TOTAL DE ITEM Y CASOS | D38: 27 | H38: =SUM(H7:H37) -> 22987.8 | I38: =SUM(I7:I37) -> 3930.9138 | J38: =SUM(J7:J37) -> 6896.34 | K38: =SUM(K7:K37) -> 4597.56
B39: COSTO MENSUAL | G39: =G7+G9+G10+G11+G12+G13+G14+G16+G17+G18+G19+G21+G22+G23+G24+G25+G26+G28+G29+G30+G31+G32+G33+G34+G35+G36+G37 -> 229878 | H39: =G39*0.1 -> 22987.8 | I39: =G39*0.0171 -> 3930.9138 | J39: =G39*0.03 -> 6896.34 | K39: =G39*0.02 -> 4597.56
B40: COSTO ANUAL | G40: =G39*12 -> 2758536 | H40: =G40*0.1 -> 275853.6 | I40: =G40*0.0171 -> 47170.966 | J40: =G40*0.03 -> 82756.08 | K40: =G40*0.02 -> 55170.72

Sheet ESCALA SALARIAL
A1: ESCALA SALARIAL DEL PERSONAL EVENTUAL
A2: ENTIDAD
A3: (Expresado en Bolivianos)
A5: ENTIDAD: | B5: CODIGO DE ENTIDAD - NOMBRE DE ENTIDAD
A6: FUENTE: | B6: CODIGO DE RECURSO - NOMBRE DEL RECURSO
A7: ORG. FINANCIADOR: | B7: CODIGO DEL ORGANISMO - NOMBRE DEL ORGANISMO
A8: GASTOS: | B8: TIPO DE GASTO
A10: CATEGORIA | B10: NIVEL SALARIAL | C10: DENOMINACION DEL PUESTO | D10: FRECUENCIA | E10: SUELDO O HABER BÁSICO | F10: COSTO MENSUAL
A11: EJECUTIVO | B11: 1 | C11: DIRECTOR GENERAL EJECUTIVO | D11: 1 | E11: 13500 | F11: =D11*E11 -> 13500
B12: 2 | C12: DIRECTOR | D12: 3 | E12: 11200 | F12: =D12*E12 -> 33600
A13: OPERATIVO | B13: 3 | C13: JEFE DE UNIDAD | D13: 3 | E13: 10100 | F13: =D13*E13 -> 30300
B14: 4 | C14: PROFESIONAL I | D14: 5 | E14: 9800 | F14: =D14*E14 -> 49000
B15: 5 | C15: PROFESIONAL II | D15: 1 | E15: 8950 | F15: =D15*E15 -> 8950
B16: 6 | C16: TECNICO I | D16: 2 | E16: 7722 | F16: =D16*E16 -> 15444
B17: 7 | C17: TECNICO II | D17: 5 | E17: 7204 | F17: =D17*E17 -> 36020
B18: 8 | C18: ADMINISTRATIVO I | D18: 2 | E18: 5971 | F18: =D18*E18 -> 11942
B19: 9 | C19: ADMINISTRATIVO II | D19: 1 | E19: 5494 | F19: =D19*E19 -> 5494
B20: 10 | C20: AUXILIAR I | D20: 3 | E20: 4009 | F20: =D20*E20 -> 12027
B21: 11 | C21: AUXILIAR II | D21: 1 | E21: 3340 | F21: =D21*E21 -> 3340
B22: TOTAL COSTO MENSUAL | D22: =SUM(D11:D21) -> 27 | E22: =SUM(E11:E21) -> 87290 | F22: =SUM(F11:F21) -> 219617
B23: TOTAL COSTO ANUAL | F23: =F22*12 -> 2635404
B24: TOTAL COSTO ANUAL MAS COLATERALES | F24: =(F23*0.1671)+F23 -> 3075780

Sheet EQUIVALENCIA
A1: NOMBRE DE LA INSTITUCION CABEZA DE SECTOR
A2: NOMBRE DE LA ENTIDAD
A3: CUADRO GENERICO DE EQUIVALENCIAS PARA EL PERSONAL EVENTUAL
A5: CATEGORIA | B5: NIVEL | C5: ='ESCALA SALARIAL'!D10 -> FRECUENCIA | D5: ='ESCALA SALARIAL'!C10 -> DENOMINACION DEL PUESTO | E5: HABER MENSUAL Bs. | F5: HOMOLOGACIÓN DE FUNCIONES | G5: REQUISITOS MÍNIMOS PARA EL CARGO EQUIVALENCIA DE FUNCIONES
G6: FORMACIÓN ACADEMICA | H6: EXPERIENCIA GENERAL | I6: EXPERIENCIA ESPECÍFICA
A8: EJECUTIVO | B8: 1 | C8: 1 | D8: ='ESCALA SALARIAL'!C11 -> DIRECTOR GENERAL EJECUTIVO | E8: ='ESCALA SALARIAL'!E11 -> 13500 | F8: - | G8: NO APLICA | H8: NO APLICA | I8: NO APLICA
A9: EJECUTIVO | B9: 2 | C9: 3 | D9: ='ESCALA SALARIAL'!C12 -> DIRECTOR | E9: ='ESCALA SALARIAL'!E12 -> 11200 | F9: Dirigir, administrar, planificar, organizar, coordinar, y ejecutar todas acciones y actividades de caracter institucional en el marco de sus competencias y establecidos en el contrato…. | G9: Licenciatura con Título Profesional y/o Provisión Nacional en el área respectiva (Deseable con Maestría y/o Postgrado) | H9: Cinco (5)años a partir de la de la emisión del Título Profesional y/o Provisión Nacional | I9: Cuatro (4) años de experiencia laboral en cargos similares en el sector publico y/o privado acreditada a partir de la de la emisión del Título Profesional y/o Provisión Nacional
A10: OPERATIVO | B10: 3 | C10: 3 | D10: ='ESCALA SALARIAL'!C13 -> JEFE DE UNIDAD | E10: ='ESCALA SALARIAL'!E13 -> 10100 | G10: Licenciatura con Título Profesional y/o Provisión Nacional en el área respectiva (Deseable con Maestría y/o Postgrado) | H10: Cuatro (4) años a partir de la de la emisión del Título Profesional y/o Provisión Nacional | I10: Tres (3) años de experiencia laboral en cargos similares en el sector publico y/o privado acreditada a partir de la de la emisión del Título Profesional y/o Provisión Nacional
A11: OPERATIVO | B11: 4 | C11: 5 | D11: ='ESCALA SALARIAL'!C14 -> PROFESIONAL I | E11: ='ESCALA SALARIAL'!E14 -> 9800 | G11: Licenciatura con Título Profesional y/o Provisión Nacional en el área respectiva (Deseable con Maestría y/o Postgrado) | H11: Cuatro (4) años a partir de la de la emisión del Título Profesional y/o Provisión Nacional | I11: Dos (2) años de experiencia laboral en cargos similares en el sector publico y/o privado acreditadaa partir de la de la emisión del Título Profesional y/o Provisión Naciona
A12: OPERATIVO | B12: 5 | C12: 1 | D12: ='ESCALA SALARIAL'!C15 -> PROFESIONAL II | E12: ='ESCALA SALARIAL'!E15 -> 8950 | G12: Licenciatura con Título Profesional y/o Provisión Nacional en el área respectiva. | H12: Tres (3) años a partir de la de la emisión del Título Profesional y/o Provisión Nacional | I12: Un (2) años de experiencia laboral en cargos similares en el sector publico y/o privado acreditada a partir de la de la emisión del Título Profesional y/o Provisión Nacional
A13: OPERATIVO | B13: 6 | C13: 2 | D13: ='ESCALA SALARIAL'!C16 -> TECNICO I | E13: ='ESCALA SALARIAL'!E16 -> 7722 | G13: Licenciatura con Título Profesional y/o Provisión Nacional en el área respectiva. | H13: Dos (2)años a partir de la de la emisión del Título Profesional y/o Provisión Nacional | I13: Un (1) año de experiencia laboral en cargos similares en el sector publico y/o privado acreditada a partir de la de la emisión del Título Profesional y/o Provisión Nacional
A14: OPERATIVO | B14: 7 | C14: 5 | D14: ='ESCALA SALARIAL'!C17 -> TECNICO II | E14: ='ESCALA SALARIAL'!E17 -> 7204 | G14: Licenciatura con Título Profesional y/o Provisión Nacional, o Técnico Superior en el área respectiva. | H14: Dos (2) años a partir de la de la emisión del Título. | I14: Un (1) año de experiencia laboral en cargos similares en el área sector publico y/o privado acreditada a partir de la de la emisión del Título.
A15: OPERATIVO | B15: 8 | C15: 2 | D15: ='ESCALA SALARIAL'!C18 -> ADMINISTRATIVO I | E15: ='ESCALA SALARIAL'!E18 -> 5971 | F15: Analizar, seguimiento y apoyo en el marco de sus funciones establecidas en el contrato y …. | G15: Tecnico Superior o Egresado de Carrera Universitaria debidamente acreditada en el area respectiva. | H15: Dos (2) años a partir de la emisión del título o certificado de egreso | I15: Diez (10) meses de experiencia laboral en cargos similares en el área sector publico y/o privado acreditada a partir de la emisión del título o certificado de egreso.
A16: OPERATIVO | B16: 9 | C16: 1 | D16: ='ESCALA SALARIAL'!C19 -> ADMINISTRATIVO II | E16: ='ESCALA SALARIAL'!E19 -> 5494 | G16: Técnico Medio, o estudiante universitario de tercer año mínimo en el área respectiva | H16: Dos (2) años a partir de la emisión del certificado. | I16: Diez (1) año de experiencia laboral en cargos similares en el área sector publico y/o privado acreditada a partir de la emisión del certificado.
A17: OPERATIVO | B17: 10 | C17: 3 | D17: ='ESCALA SALARIAL'!C20 -> AUXILIAR I | E17: ='ESCALA SALARIAL'!E20 -> 4009 | G17: Bachiller en humanidades | H17: Un (1) año a partir de la emisión del título | I17: Seis (6) meses de experiencia laboral en cargos similares en el área sector publico y/o privado acreditada a partir de la emisión del título
A18: OPERATIVO | B18: 11 | C18: 1 | D18: ='ESCALA SALARIAL'!C21 -> AUXILIAR II | E18: ='ESCALA SALARIAL'!E21 -> 3340 | F18: Seguimiento y apoyo en el marco de sus funciones establecidas en el contrato ….. | G18: Bachiller en humanidades
A20: El nivel 1, es considerado de Libre Nombramiento designada mediante Resolución Supremay será elegido de una terna elevada por el Directorio.
A21: El nivel 10, en el caso de contratación de Chofer, mínimamente debera contar con la licencia de conducir Categoría C y 6 meses de experiencia.
A24: FIRMA Y SELLO RRHH | D24: FIRMA Y SELLO DAF | F24: FIRMA Y SELLO DAJ | G24: FIRMA Y SELLO MAE

Sheet CUADRO COMPARATIVO
B3: FONDO DE FINANCIAMIENTO PARA LA MINERIA
B4: (EXPRESADO EN BOLIVIANOS)
B5: PLANILLA SALARIAL GESTION 2023-2024-COMPARATIVO
B7: DENOMINACIÓN DEL PUESTO | C7: DESCRIPCIÓN DE PUESTO | D7: GESTION | E7: CATEGORIA | F7: HABER BASICO | G7: MES DEL AÑO | S7: DIAS | T7: MESES | U7: MONTO ANUAL | V7: APORTES PATRONALES | Z7: TOTAL | AB7: ='[1]PLANILLA SALARIAL '!B5 -> DENOMINACIÓN DEL PUESTO | AC7: ='[1]PLANILLA SALARIAL '!C5 -> DESCRIPCIÓN DE PUESTO | AD7: ='[1]PLANILLA SALARIAL '!E5 -> GESTION | AE7: ='[1]PLANILLA SALARIAL '!F5 -> CATEGORIA | AF7: ='[1]PLANILLA SALARIAL '!G5 -> HABER BASICO | AG7: MESES | AH7: MONTO ANUAL | AI7: APORTES PATRONALES | AM7: TOTAL
G8: ENE | H8: FEB | I8: MAR | J8: ABR | K8: MAY | L8: JUN | M8: JUL | N8: AGO | O8: SEP | P8: OCT | Q8: NOV | R8: DIC | V8: SALUD (10%) | W8: PRIMA RIESGO PROFESONAL(1.71%) | X8: PATRONAL (3%) | Y8: VIVIENDA(2%) | AI8: SALUD (10%) | AJ8: PRIMA RIESGO PROFESONAL(1.71%) | AK8: PATRONAL (3%) | AL8: VIVIENDA(2%)
B9: ='ESTRUCTURA DE CARGOS'!B7 -> Especialista II | C9: ='ESTRUCTURA DE CARGOS'!C7 -> Director General Ejecutivo | D9: 2024 | E9: EJECUTIVO | F9: ='ESTRUCTURA DE CARGOS'!G7 -> 16958 | G9: 30 | H9: 30 | I9: 30 | J9: 30 | K9: 30 | L9: 30 | M9: 30 | N9: 30 | O9: 30 | P9: 30 | Q9: 30 | R9: 30 | S9: =SUM(G9:R9) -> 360 | T9: =+S9/30 -> 12 | U9: =ROUND(PRODUCT(F9*T9),0) -> 203496 | V9: =U9*0.1 -> 20349.6 | W9: =U9*0.0171 -> 3479.7816 | X9: =U9*0.03 -> 6104.88 | Y9: =U9*0.02 -> 4069.92 | Z9: =SUM(U9:Y9) -> 237500.18 | AB9: ='[1]PLANILLA SALARIAL '!B7 -> Especialista II | AC9: ='[1]PLANILLA SALARIAL '!C7 -> Director General Ejecutivo | AD9: ='[1]PLANILLA SALARIAL '!E7 -> 2023 | AE9: ='[1]PLANILLA SALARIAL '!F7 -> EJECUTIVO | AF9: ='[1]PLANILLA SALARIAL '!G7 -> 16958 | AG9: 12 | AH9: =AF9*AG9 -> 203496 | AI9: =AH9*0.1 -> 20349.6 | AJ9: =AH9*0.0171 -> 3479.7816 | AK9: =AH9*0.03 -> 6104.88 | AL9: =AH9*0.02 -> 4069.92 | AM9: =SUM(AH9:AL9) -> 237500.18
B10: ='ESTRUCTURA DE CARGOS'!B9 -> Profesional VII | C10: ='ESTRUCTURA DE CARGOS'!C9 -> Responsable de la Unida de Auditoria Interna | D10: 2024 | E10: OPERATIVO | F10: ='ESTRUCTURA DE CARGOS'!G9 -> 10693 | G10: 30 | H10: 30 | I10: 30 | J10: 30 | K10: 30 | L10: 30 | M10: 30 | N10: 30 | O10: 30 | P10: 30 | Q10: 30 | R10: 30 | S10: =SUM(G10:R10) -> 360 | T10: =+S10/30 -> 12 | U10: =ROUND(PRODUCT(F10*T10),0) -> 128316 | V10: =U10*0.1 -> 12831.6 | W10: =U10*0.0171 -> 2194.2036 | X10: =U10*0.03 -> 3849.48 | Y10: =U10*0.02 -> 2566.32 | Z10: =SUM(U10:Y10) -> 149757.6 | AB10: ='[1]PLANILLA SALARIAL '!B8 -> Profesional VII | AC10: ='[1]PLANILLA SALARIAL '!C8 -> Responsable de la Unida de Auditoria Interna | AD10: ='[1]PLANILLA SALARIAL '!E8 -> 2023 | AE10: ='[1]PLANILLA SALARIAL '!F8 -> OPERATIVO | AF10: ='[1]PLANILLA SALARIAL '!G8 -> 10693 | AG10: 12 | AH10: =AF10*AG10 -> 128316 | AI10: =AH10*0.1 -> 12831.6 | AJ10: =AH10*0.0171 -> 2194.2036 | AK10: =AH10*0.03 -> 3849.48 | AL10: =AH10*0.02 -> 2566.32 | AM10: =SUM(AH10:AL10) -> 149757.6
B11: ='ESTRUCTURA DE CARGOS'!B10 -> Administrativo I | C11: ='ESTRUCTURA DE CARGOS'!C10 -> Profesional en Transparencia y Lucha contra la Corrupcion | D11: 2024 | E11: OPERATIVO | F11: ='ESTRUCTURA DE CARGOS'!G10 -> 5971 | G11: 30 | H11: 30 | I11: 30 | J11: 30 | K11: 30 | L11: 30 | M11: 30 | N11: 30 | O11: 30 | P11: 30 | Q11: 30 | R11: 30 | S11: =SUM(G11:R11) -> 360 | T11: =+S11/30 -> 12 | U11: =ROUND(PRODUCT(F11*T11),0) -> 71652 | V11: =U11*0.1 -> 7165.2 | W11: =U11*0.0171 -> 1225.2492 | X11: =U11*0.03 -> 2149.56 | Y11: =U11*0.02 -> 1433.04 | Z11: =SUM(U11:Y11) -> 83625.049 | AB11: ='[1]PLANILLA SALARIAL '!B9 -> Tecnico VI | AC11: ='[1]PLANILLA SALARIAL '!C9 -> Profesional en Transparencia y Lucha contra la Corrupcion | AD11: ='[1]PLANILLA SALARIAL '!E9 -> 2023 | AE11: ='[1]PLANILLA SALARIAL '!F9 -> OPERATIVO | AF11: ='[1]PLANILLA SALARIAL '!G9 -> 6906 | AG11: 11 | AH11: =AF11*AG11 -> 75966 | AI11: =AH11*0.1 -> 7596.6 | AJ11: =AH11*0.0171 -> 1299.0186 | AK11: =AH11*0.03 -> 2278.98 | AL11: =AH11*0.02 -> 1519.32 | AM11: =SUM(AH11:AL11) -> 88659.919
B12: ='ESTRUCTURA DE CARGOS'!B11 -> Tecnico VI | C12: ='ESTRUCTURA DE CARGOS'!C11 -> Profesional en Planificacion Institucional | D12: 2024 | E12: OPERATIVO | F12: ='ESTRUCTURA DE CARGOS'!G11 -> 7204 | G12: 30 | H12: 30 | I12: 30 | J12: 30 | K12: 30 | L12: 30 | M12: 30 | N12: 30 | O12: 30 | P12: 30 | Q12: 30 | R12: 30 | S12: =SUM(G12:R12) -> 360 | T12: =+S12/30 -> 12 | U12: =ROUND(PRODUCT(F12*T12),0) -> 86448 | V12: =U12*0.1 -> 8644.8 | W12: =U12*0.0171 -> 1478.2608 | X12: =U12*0.03 -> 2593.44 | Y12: =U12*0.02 -> 1728.96 | Z12: =SUM(U12:Y12) -> 100893.46 | AB12: ='[1]PLANILLA SALARIAL '!B10 -> Tecnico VI | AC12: ='[1]PLANILLA SALARIAL '!C10 -> Profesional en Planificacion Institucional | AD12: ='[1]PLANILLA SALARIAL '!E10 -> 2023 | AE12: ='[1]PLANILLA SALARIAL '!F10 -> OPERATIVO | AF12: ='[1]PLANILLA SALARIAL '!G10 -> 6906 | AG12: 11 | AH12: =AF12*AG12 -> 75966 | AI12: =AH12*0.1 -> 7596.6 | AJ12: =AH12*0.0171 -> 1299.0186 | AK12: =AH12*0.03 -> 2278.98 | AL12: =AH12*0.02 -> 1519.32 | AM12: =SUM(AH12:AL12) -> 88659.919
B13: ='ESTRUCTURA DE CARGOS'!B12 -> Tecnico VI | C13: ='ESTRUCTURA DE CARGOS'!C12 -> Profesional en Comunicación Institucional | D13: 2024 | E13: OPERATIVO | F13: ='ESTRUCTURA DE CARGOS'!G12 -> 7204 | G13: 30 | H13: 30 | I13: 30 | J13: 30 | K13: 30 | L13: 30 | M13: 30 | N13: 30 | O13: 30 | P13: 30 | Q13: 30 | R13: 30 | S13: =SUM(G13:R13) -> 360 | T13: =+S13/30 -> 12 | U13: =ROUND(PRODUCT(F13*T13),0) -> 86448 | V13: =U13*0.1 -> 8644.8 | W13: =U13*0.0171 -> 1478.2608 | X13: =U13*0.03 -> 2593.44 | Y13: =U13*0.02 -> 1728.96 | Z13: =SUM(U13:Y13) -> 100893.46 | AB13: ='[1]PLANILLA SALARIAL '!B11 -> Tecnico VI | AC13: ='[1]PLANILLA SALARIAL '!C11 -> Profesional en Comunicación Institucional | AD13: ='[1]PLANILLA SALARIAL '!E11 -> 2023 | AE13: ='[1]PLANILLA SALARIAL '!F11 -> OPERATIVO | AF13: ='[1]PLANILLA SALARIAL '!G11 -> 6906 | AG13: 11 | AH13: =AF13*AG13 -> 75966 | AI13: =AH13*0.1 -> 7596.6 | AJ13: =AH13*0.0171 -> 1299.0186 | AK13: =AH13*0.03 -> 2278.98 | AL13: =AH13*0.02 -> 1519.32 | AM13: =SUM(AH13:AL13) -> 88659.919
B14: ='ESTRUCTURA DE CARGOS'!B13 -> Auxiliar I | C14: ='ESTRUCTURA DE CARGOS'!C13 -> Secretaria de DGE | D14: 2024 | E14: OPERATIVO | F14: ='ESTRUCTURA DE CARGOS'!G13 -> 4009 | G14: 30 | H14: 30 | I14: 30 | J14: 30 | K14: 30 | L14: 30 | M14: 30 | N14: 30 | O14: 30 | P14: 30 | Q14: 30 | R14: 30 | S14: =SUM(G14:R14) -> 360 | T14: =+S14/30 -> 12 | U14: =ROUND(PRODUCT(F14*T14),0) -> 48108 | V14: =U14*0.1 -> 4810.8 | W14: =U14*0.0171 -> 822.6468 | X14: =U14*0.03 -> 1443.24 | Y14: =U14*0.02 -> 962.16 | Z14: =SUM(U14:Y14) -> 56146.847 | AB14: ='[1]PLANILLA SALARIAL '!B12 -> Auxiliar I | AC14: ='[1]PLANILLA SALARIAL '!C12 -> Secretaria de DGE | AD14: ='[1]PLANILLA SALARIAL '!E12 -> 2023 | AE14: ='[1]PLANILLA SALARIAL '!F12 -> OPERATIVO | AF14: ='[1]PLANILLA SALARIAL '!G12 -> 4009 | AG14: 12 | AH14: =AF14*AG14 -> 48108 | AI14: =AH14*0.1 -> 4810.8 | AJ14: =AH14*0.0171 -> 822.6468 | AK14: =AH14*0.03 -> 1443.24 | AL14: =AH14*0.02 -> 962.16 | AM14: =SUM(AH14:AL14) -> 56146.847
B15: ='ESTRUCTURA DE CARGOS'!B14 -> Auxiliar I | C15: ='ESTRUCTURA DE CARGOS'!C14 -> Chofer Mensajero DGE | D15: 2024 | E15: OPERATIVO | F15: ='ESTRUCTURA DE CARGOS'!G14 -> 4009 | G15: 30 | H15: 30 | I15: 30 | J15: 30 | K15: 30 | L15: 30 | M15: 30 | N15: 30 | O15: 30 | P15: 30 | Q15: 30 | R15: 30 | S15: =SUM(G15:R15) -> 360 | T15: =+S15/30 -> 12 | U15: =ROUND(PRODUCT(F15*T15),0) -> 48108 | V15: =U15*0.1 -> 4810.8 | W15: =U15*0.0171 -> 822.6468 | X15: =U15*0.03 -> 1443.24 | Y15: =U15*0.02 -> 962.16 | Z15: =SUM(U15:Y15) -> 56146.847 | AB15: ='[1]PLANILLA SALARIAL '!B13 -> Auxiliar I | AC15: ='[1]PLANILLA SALARIAL '!C13 -> Chofer Mensajero DGE | AD15: ='[1]PLANILLA SALARIAL '!E13 -> 2023 | AE15: ='[1]PLANILLA SALARIAL '!F13 -> OPERATIVO | AF15: ='[1]PLANILLA SALARIAL '!G13 -> 4009 | AG15: 12 | AH15: =AF15*AG15 -> 48108 | AI15: =AH15*0.1 -> 4810.8 | AJ15: =AH15*0.0171 -> 822.6468 | AK15: =AH15*0.03 -> 1443.24 | AL15: =AH15*0.02 -> 962.16 | AM15: =SUM(AH15:AL15) -> 56146.847
B16: ='ESTRUCTURA DE CARGOS'!B16 -> Responsable IV | C16: ='ESTRUCTURA DE CARGOS'!C16 -> Director de Asuntos Juridicos | D16: 2024 | E16: OPERATIVO | F16: ='ESTRUCTURA DE CARGOS'!G16 -> 13738 | G16: 30 | H16: 30 | I16: 30 | J16: 30 | K16: 30 | L16: 30 | M16: 30 | N16: 30 | O16: 30 | P16: 30 | Q16: 30 | R16: 30 | S16: =SUM(G16:R16) -> 360 | T16: =+S16/30 -> 12 | U16: =ROUND(PRODUCT(F16*T16),0) -> 164856 | V16: =U16*0.1 -> 16485.6 | W16: =U16*0.0171 -> 2819.0376 | X16: =U16*0.03 -> 4945.68 | Y16: =U16*0.02 -> 3297.12 | Z16: =SUM(U16:Y16) -> 192403.44 | AB16: ='[1]PLANILLA SALARIAL '!B14 -> Responsable IV | AC16: ='[1]PLANILLA SALARIAL '!C14 -> Director de Asuntos Juridicos | AD16: ='[1]PLANILLA SALARIAL '!E14 -> 2023 | AE16: ='[1]PLANILLA SALARIAL '!F14 -> OPERATIVO | AF16: ='[1]PLANILLA SALARIAL '!G14 -> 13738 | AG16: 12 | AH16: =AF16*AG16 -> 164856 | AI16: =AH16*0.1 -> 16485.6 | AJ16: =AH16*0.0171 -> 2819.0376 | AK16: =AH16*0.03 -> 4945.68 | AL16: =AH16*0.02 -> 3297.12 | AM16: =SUM(AH16:AL16) -> 192403.44
B17: ='ESTRUCTURA DE CARGOS'!B17 -> Tecnico IV | C17: ='ESTRUCTURA DE CARGOS'!C17 -> Profesional en Analisis Juridico | D17: 2024 | E17: OPERATIVO | F17: ='ESTRUCTURA DE CARGOS'!G17 -> 8950 | G17: 30 | H17: 30 | I17: 30 | J17: 30 | K17: 30 | L17: 30 | M17: 30 | N17: 30 | O17: 30 | P17: 30 | Q17: 30 | R17: 30 | S17: =SUM(G17:R17) -> 360 | T17: =+S17/30 -> 12 | U17: =ROUND(PRODUCT(F17*T17),0) -> 107400 | V17: =U17*0.1 -> 10740 | W17: =U17*0.0171 -> 1836.54 | X17: =U17*0.03 -> 3222 | Y17: =U17*0.02 -> 2148 | Z17: =SUM(U17:Y17) -> 125346.54 | AB17: ='[1]PLANILLA SALARIAL '!B15 -> Tecnico VI | AC17: ='[1]PLANILLA SALARIAL '!C15 -> Profesional en Analisis Juridico | AD17: ='[1]PLANILLA SALARIAL '!E15 -> 2023 | AE17: ='[1]PLANILLA SALARIAL '!F15 -> OPERATIVO | AF17: ='[1]PLANILLA SALARIAL '!G15 -> 6906 | AG17: 11 | AH17: =AF17*AG17 -> 75966 | AI17: =AH17*0.1 -> 7596.6 | AJ17: =AH17*0.0171 -> 1299.0186 | AK17: =AH17*0.03 -> 2278.98 | AL17: =AH17*0.02 -> 1519.32 | AM17: =SUM(AH17:AL17) -> 88659.919
B18: ='ESTRUCTURA DE CARGOS'!B18 -> Tecnico VI | C18: ='ESTRUCTURA DE CARGOS'!C18 -> Profesional en Gestion Juridica | D18: 2024 | E18: OPERATIVO | F18: ='ESTRUCTURA DE CARGOS'!G18 -> 7204 | G18: 30 | H18: 30 | I18: 30 | J18: 30 | K18: 30 | L18: 30 | M18: 30 | N18: 30 | O18: 30 | P18: 30 | Q18: 30 | R18: 30 | S18: =SUM(G18:R18) -> 360 | T18: =+S18/30 -> 12 | U18: =ROUND(PRODUCT(F18*T18),0) -> 86448 | V18: =U18*0.1 -> 8644.8 | W18: =U18*0.0171 -> 1478.2608 | X18: =U18*0.03 -> 2593.44 | Y18: =U18*0.02 -> 1728.96 | Z18: =SUM(U18:Y18) -> 100893.46 | AB18: ='[1]PLANILLA SALARIAL '!B16 -> Tecnico V | AC18: ='[1]PLANILLA SALARIAL '!C16 -> Profesional en Gestion Juridica | AD18: ='[1]PLANILLA SALARIAL '!E16 -> 2023 | AE18: ='[1]PLANILLA SALARIAL '!F16 -> OPERATIVO | AF18: ='[1]PLANILLA SALARIAL '!G16 -> 7722 | AG18: 11 | AH18: =AF18*AG18 -> 84942 | AI18: =AH18*0.1 -> 8494.2 | AJ18: =AH18*0.0171 -> 1452.5082 | AK18: =AH18*0.03 -> 2548.26 | AL18: =AH18*0.02 -> 1698.84 | AM18: =SUM(AH18:AL18) -> 99135.808
B19: ='ESTRUCTURA DE CARGOS'!B19 -> Administrativo II | C19: ='ESTRUCTURA DE CARGOS'!C19 -> Tecnico Abogado Procurador | D19: 2024 | E19: OPERATIVO | F19: ='ESTRUCTURA DE CARGOS'!G19 -> 5494 | G19: 30 | H19: 30 | I19: 30 | J19: 30 | K19: 30 | L19: 30 | M19: 30 | N19: 30 | O19: 30 | P19: 30 | Q19: 30 | R19: 30 | S19: =SUM(G19:R19) -> 360 | T19: =+S19/30 -> 12 | U19: =ROUND(PRODUCT(F19*T19),0) -> 65928 | V19: =U19*0.1 -> 6592.8 | W19: =U19*0.0171 -> 1127.3688 | X19: =U19*0.03 -> 1977.84 | Y19: =U19*0.02 -> 1318.56 | Z19: =SUM(U19:Y19) -> 76944.569 | AB19: ='[1]PLANILLA SALARIAL '!B17 -> Administrativo II | AC19: ='[1]PLANILLA SALARIAL '!C17 -> Tecnico Abogado Procurador | AD19: ='[1]PLANILLA SALARIAL '!E17 -> 2023 | AE19: ='[1]PLANILLA SALARIAL '!F17 -> OPERATIVO | AF19: ='[1]PLANILLA SALARIAL '!G17 -> 5494 | AG19: 11 | AH19: =AF19*AG19 -> 60434 | AI19: =AH19*0.1 -> 6043.4 | AJ19: =AH19*0.0171 -> 1033.4214 | AK19: =AH19*0.03 -> 1813.02 | AL19: =AH19*0.02 -> 1208.68 | AM19: =SUM(AH19:AL19) -> 70532.521
